BEGIN:VCALENDAR
VERSION:2.0
PRODID:-//Kooperationsverbund Rechtsextremismusprävention - ECPv6.15.20//NONSGML v1.0//EN
CALSCALE:GREGORIAN
METHOD:PUBLISH
X-WR-CALNAME:Kooperationsverbund Rechtsextremismusprävention
X-ORIGINAL-URL:https://kooperationsverbund-rechtsextremismuspraevention.de
X-WR-CALDESC:Veranstaltungen für Kooperationsverbund Rechtsextremismusprävention
REFRESH-INTERVAL;VALUE=DURATION:PT1H
X-Robots-Tag:noindex
X-PUBLISHED-TTL:PT1H
BEGIN:VTIMEZONE
TZID:Europe/Berlin
BEGIN:DAYLIGHT
TZOFFSETFROM:+0100
TZOFFSETTO:+0200
TZNAME:CEST
DTSTART:20240331T010000
END:DAYLIGHT
BEGIN:STANDARD
TZOFFSETFROM:+0200
TZOFFSETTO:+0100
TZNAME:CET
DTSTART:20241027T010000
END:STANDARD
BEGIN:DAYLIGHT
TZOFFSETFROM:+0100
TZOFFSETTO:+0200
TZNAME:CEST
DTSTART:20250330T010000
END:DAYLIGHT
BEGIN:STANDARD
TZOFFSETFROM:+0200
TZOFFSETTO:+0100
TZNAME:CET
DTSTART:20251026T010000
END:STANDARD
BEGIN:DAYLIGHT
TZOFFSETFROM:+0100
TZOFFSETTO:+0200
TZNAME:CEST
DTSTART:20260329T010000
END:DAYLIGHT
BEGIN:STANDARD
TZOFFSETFROM:+0200
TZOFFSETTO:+0100
TZNAME:CET
DTSTART:20261025T010000
END:STANDARD
END:VTIMEZONE
BEGIN:VEVENT
DTSTART;TZID=Europe/Berlin:20251008T180000
DTEND;TZID=Europe/Berlin:20251008T203000
DTSTAMP:20260422T065157
CREATED:20250904T073932Z
LAST-MODIFIED:20250904T074006Z
UID:1241-1759946400-1759955400@kooperationsverbund-rechtsextremismuspraevention.de
SUMMARY:Jenseits der Bubble: Wie erreichen Unternehmen Mitarbeitende für demokratisches Engagement? - Salon
DESCRIPTION:Diskutieren Sie mit uns! \nRechtsextreme und antidemokratische Tendenzen nehmen zu – auch am Arbeitsplatz. Gerade jetzt stellt sich die Frage: Wie können Unternehmen Mitarbeitende für demokratische Werte gewinnen\, die bisher keine Haltung zeigen? \nIm Rahmen des 25-jährigen Jubiläums von Gesicht Zeigen! laden wir Sie herzlich ein zu unserem Salon „Jenseits der Bubble – Wie erreichen Unternehmen Mitarbeitende für demokratisches Engagement?“ \nGemeinsam mit Gästen aus Wissenschaft\, Wirtschaft und Zivilgesellschaft diskutieren wir\, wie Unternehmen Verantwortung übernehmen und auch Menschen erreichen können\, die bislang noch unentschlossen sind\, eher still bleiben und sich nicht ohnehin schon sozial engagieren. \nMit dabei sind u. a.\n🔸 Dr. Matthias Diermeier (IW Gesellschaftsforschung)\n🔸 Anna Theil (Leitung Kommunikation\, More in Common)\n🔸 Stefan Fehm-Danoglidis (Diversity-Experte\, Stadtwerke München) \nModeration: Marco Varnas\, Gesicht Zeigen! Projekt United! \nDie Teilnahme ist kostenfrei. Hier können Sie sich anmelden. \n 
URL:https://kooperationsverbund-rechtsextremismuspraevention.de/event/jenseits-der-bubble-wie-erreichen-unternehmen-mitarbeitende-fuer-demokratisches-engagement-salon/
LOCATION:Lernort 7xjung\, Flensburger Str. 3\, Berlin \, 10557\, Germany
END:VEVENT
END:VCALENDAR