BEGIN:VCALENDAR
VERSION:2.0
PRODID:-//Kooperationsverbund Rechtsextremismusprävention - ECPv6.15.20//NONSGML v1.0//EN
CALSCALE:GREGORIAN
METHOD:PUBLISH
X-WR-CALNAME:Kooperationsverbund Rechtsextremismusprävention
X-ORIGINAL-URL:https://kooperationsverbund-rechtsextremismuspraevention.de
X-WR-CALDESC:Veranstaltungen für Kooperationsverbund Rechtsextremismusprävention
REFRESH-INTERVAL;VALUE=DURATION:PT1H
X-Robots-Tag:noindex
X-PUBLISHED-TTL:PT1H
BEGIN:VTIMEZONE
TZID:Europe/Berlin
BEGIN:DAYLIGHT
TZOFFSETFROM:+0100
TZOFFSETTO:+0200
TZNAME:CEST
DTSTART:20240331T010000
END:DAYLIGHT
BEGIN:STANDARD
TZOFFSETFROM:+0200
TZOFFSETTO:+0100
TZNAME:CET
DTSTART:20241027T010000
END:STANDARD
BEGIN:DAYLIGHT
TZOFFSETFROM:+0100
TZOFFSETTO:+0200
TZNAME:CEST
DTSTART:20250330T010000
END:DAYLIGHT
BEGIN:STANDARD
TZOFFSETFROM:+0200
TZOFFSETTO:+0100
TZNAME:CET
DTSTART:20251026T010000
END:STANDARD
BEGIN:DAYLIGHT
TZOFFSETFROM:+0100
TZOFFSETTO:+0200
TZNAME:CEST
DTSTART:20260329T010000
END:DAYLIGHT
BEGIN:STANDARD
TZOFFSETFROM:+0200
TZOFFSETTO:+0100
TZNAME:CET
DTSTART:20261025T010000
END:STANDARD
END:VTIMEZONE
BEGIN:VEVENT
DTSTART;TZID=Europe/Berlin:20251103T090000
DTEND;TZID=Europe/Berlin:20251103T130000
DTSTAMP:20260422T052723
CREATED:20250731T130901Z
LAST-MODIFIED:20250915T080330Z
UID:597-1762160400-1762174800@kooperationsverbund-rechtsextremismuspraevention.de
SUMMARY:Jugendlicher Rechtsextremismus - Problemaufrisse und Präventionsansätze - Vertiefungsmodul - modulare Fortbildungsreihe
DESCRIPTION:Immer jüngere Heranwachsende vertreten lautstark menschen- und demokratiefeindliche Haltungen. Aktionsorientierte rechtsradikale Jugendkulturen erstarken und werden z.T. von rechtsextremen Altkadern unterstützt. Das Gewaltpotential steigt. Die Frage\, wie man pädagogisch angemessen damit umgeht\, stellt u.a. Schule und Jugendarbeit vor drängende Herausforderungen. \nIm Workshop wird Hintergrundwissen zu Radikalisierungsprozessen\, Risikofaktoren und Hinwendungsmotiven bei Jugendlichen und jungen Erwachsenen differenziert dargestellt und entsprechende Ansätze\, Strategien und Handlungsmöglichkeiten der Rechtsextremismusprävention und Intervention hinsichtlich ihrer Potentiale und Grenzen besprochen und mit den Bedarfen und Praxiserfahrungen der Teilnehmenden abgeglichen. \nDer Kooperationsverbund Rechtsextremismusprävention (KompRex) bietet von Oktober bis Dezember 2025 eine modulare Fortbildungsreihe an. Die Reihe richtet sich an Fachkräfte aus der Rechtsextremismusprävention. \nIn zwei einführenden Workshops soll Grundlagenwissen über Erscheinungsformen des Rechtsextremismus vermittelt werden. In den darauffolgenden Vertiefungsworkshops führen die Träger des KompRex in die Herausforderungen mit Rechtsextremismus in ihren jeweiligen Feldern ein. \nDie Anmeldung ist ab sofort hier möglich: https://bagkr.de/anmeldung-fobi-2025/  \nSollte die Nachfrage das Angebot bei weitem übersteigen\, werden einzelne Module Anfang 2026 wiederholt.
URL:https://kooperationsverbund-rechtsextremismuspraevention.de/event/umgang-von-jugendkulturen-mit-rechtsextremismus-vertiefungsmodul-modulare-fortbildungsreihe/
LOCATION:online
END:VEVENT
END:VCALENDAR