BEGIN:VCALENDAR
VERSION:2.0
PRODID:-//Kooperationsverbund Rechtsextremismusprävention - ECPv6.15.20//NONSGML v1.0//EN
CALSCALE:GREGORIAN
METHOD:PUBLISH
X-ORIGINAL-URL:https://kooperationsverbund-rechtsextremismuspraevention.de
X-WR-CALDESC:Veranstaltungen für Kooperationsverbund Rechtsextremismusprävention
REFRESH-INTERVAL;VALUE=DURATION:PT1H
X-Robots-Tag:noindex
X-PUBLISHED-TTL:PT1H
BEGIN:VTIMEZONE
TZID:Europe/Berlin
BEGIN:DAYLIGHT
TZOFFSETFROM:+0100
TZOFFSETTO:+0200
TZNAME:CEST
DTSTART:20240331T010000
END:DAYLIGHT
BEGIN:STANDARD
TZOFFSETFROM:+0200
TZOFFSETTO:+0100
TZNAME:CET
DTSTART:20241027T010000
END:STANDARD
BEGIN:DAYLIGHT
TZOFFSETFROM:+0100
TZOFFSETTO:+0200
TZNAME:CEST
DTSTART:20250330T010000
END:DAYLIGHT
BEGIN:STANDARD
TZOFFSETFROM:+0200
TZOFFSETTO:+0100
TZNAME:CET
DTSTART:20251026T010000
END:STANDARD
BEGIN:DAYLIGHT
TZOFFSETFROM:+0100
TZOFFSETTO:+0200
TZNAME:CEST
DTSTART:20260329T010000
END:DAYLIGHT
BEGIN:STANDARD
TZOFFSETFROM:+0200
TZOFFSETTO:+0100
TZNAME:CET
DTSTART:20261025T010000
END:STANDARD
END:VTIMEZONE
BEGIN:VEVENT
DTSTART;TZID=Europe/Berlin:20251113T090000
DTEND;TZID=Europe/Berlin:20251113T130000
DTSTAMP:20260422T052930
CREATED:20250731T131137Z
LAST-MODIFIED:20250915T080355Z
UID:603-1763024400-1763038800@kooperationsverbund-rechtsextremismuspraevention.de
SUMMARY:Am Rand verortet - mitten in der Gesellschaft. Türkischer Rechtsextremismus im deutschen Kontext - Vertiefungsmodul - modulare Fortbildungsreihe
DESCRIPTION:Der Workshop bietet einen einführenden Überblick in eine bislang oft einseitig beleuchtete Facette des Rechtsextremismus: die türkische (extreme) Rechte in Deutschland. Im Zentrum steht die Auseinandersetzung mit ideologischen Merkmalen\, ein Blick auf zentrale Akteure sowie der Vergleich mit rechtsextremen Ideologien im mehrheitsdeutschen Kontext. \nBesonderes Augenmerk gilt der Perspektive von Betroffenen sowie den gesellschaftlichen Auswirkungen des Phänomens. Gemeinsam setzen wir uns im Workshop mit bestehenden Strukturen in der Präventionslandschaft auseinander – bevor wir der Frage nachgehen\, welche Herausforderungen sich daraus für politische Bildung\, Prävention und professionelles Handeln ergeben. \nDer Kooperationsverbund Rechtsextremismusprävention (KompRex) bietet von Oktober bis Dezember 2025 eine modulare Fortbildungsreihe an. Die Reihe richtet sich an Fachkräfte aus der Rechtsextremismusprävention. \nIn zwei einführenden Workshops soll Grundlagenwissen über Erscheinungsformen des Rechtsextremismus vermittelt werden. In den darauffolgenden Vertiefungsworkshops führen die Träger des KompRex in die Herausforderungen mit Rechtsextremismus in ihren jeweiligen Feldern ein. \nDie Anmeldung ist ab sofort hier möglich: https://bagkr.de/anmeldung-fobi-2025/  \nSollte die Nachfrage das Angebot bei weitem übersteigen\, werden einzelne Module Anfang 2026 wiederholt.
URL:https://kooperationsverbund-rechtsextremismuspraevention.de/event/tuerkischer-rechtsextremismus-in-deutschland-vertiefungsmodul-modulare-fortbildungsreihe/
LOCATION:online
END:VEVENT
BEGIN:VEVENT
DTSTART;TZID=Europe/Berlin:20251113T180000
DTEND;TZID=Europe/Berlin:20251113T200000
DTSTAMP:20260422T052930
CREATED:20251110T104855Z
LAST-MODIFIED:20251110T105623Z
UID:1659-1763056800-1763064000@kooperationsverbund-rechtsextremismuspraevention.de
SUMMARY:Ringvorlesung „Rechtsextremismus\, Recht und Justiz“ - Vom NSU-Prozess bis heute: Ein Rückblick
DESCRIPTION:Die Taten des NSU\, der zwischen 2000 und 2011 neun Menschen mit Migrationshintergrund und eine Polizistin ermordete\, enthüllten tiefgreifende Mängel in der deutschen Polizei und der Aufklärungsarbeit der Behörden. Das Verfahren zeigte auf erschreckende Weise\, wie Rassismus als Tatmotiv ein Jahrzehnt lang ausgeblendet wurde. Wo stehen wir heute? Der Vortrag gibt einen Rückblick vom NSU-Prozess bis heute. \nReferentin: Seda Başay-Yıldız\, Rechtsanwältin \nDie Vorlesung ist offen für alle Interessierten\, keine Voranmeldung nötig.\nMehr Infos unter: https://www.gesichtzeigen.de/angebote/schwerpunktbereich-justiz-rechtsextremismus/#veranstaltungen
URL:https://kooperationsverbund-rechtsextremismuspraevention.de/event/ringvorlesung-rechtsextremismus-recht-und-justiz-vom-nsu-prozess-bis-heute-ein-rueckblick/
LOCATION:Freie Universität Berlin\, Hörsaal II\, Van’t-Hoff-Straße 8\, Berlin\, 14195
END:VEVENT
END:VCALENDAR