BEGIN:VCALENDAR
VERSION:2.0
PRODID:-//Kooperationsverbund Rechtsextremismusprävention - ECPv6.15.20//NONSGML v1.0//EN
CALSCALE:GREGORIAN
METHOD:PUBLISH
X-ORIGINAL-URL:https://kooperationsverbund-rechtsextremismuspraevention.de
X-WR-CALDESC:Veranstaltungen für Kooperationsverbund Rechtsextremismusprävention
REFRESH-INTERVAL;VALUE=DURATION:PT1H
X-Robots-Tag:noindex
X-PUBLISHED-TTL:PT1H
BEGIN:VTIMEZONE
TZID:Europe/Berlin
BEGIN:DAYLIGHT
TZOFFSETFROM:+0100
TZOFFSETTO:+0200
TZNAME:CEST
DTSTART:20240331T010000
END:DAYLIGHT
BEGIN:STANDARD
TZOFFSETFROM:+0200
TZOFFSETTO:+0100
TZNAME:CET
DTSTART:20241027T010000
END:STANDARD
BEGIN:DAYLIGHT
TZOFFSETFROM:+0100
TZOFFSETTO:+0200
TZNAME:CEST
DTSTART:20250330T010000
END:DAYLIGHT
BEGIN:STANDARD
TZOFFSETFROM:+0200
TZOFFSETTO:+0100
TZNAME:CET
DTSTART:20251026T010000
END:STANDARD
BEGIN:DAYLIGHT
TZOFFSETFROM:+0100
TZOFFSETTO:+0200
TZNAME:CEST
DTSTART:20260329T010000
END:DAYLIGHT
BEGIN:STANDARD
TZOFFSETFROM:+0200
TZOFFSETTO:+0100
TZNAME:CET
DTSTART:20261025T010000
END:STANDARD
END:VTIMEZONE
BEGIN:VEVENT
DTSTART;TZID=Europe/Berlin:20251118T100000
DTEND;TZID=Europe/Berlin:20251118T120000
DTSTAMP:20260422T053809
CREATED:20251112T094343Z
LAST-MODIFIED:20251113T102724Z
UID:1703-1763460000-1763467200@kooperationsverbund-rechtsextremismuspraevention.de
SUMMARY:Basiskurs Rechtsextremismus -  Modulare Online-Fortbildung von Cultures Interactive
DESCRIPTION:Mit welchen pädago­gischen Inter­ventionen erreicht man junge Menschen\, die sich demokratie- und menschen­feindlichen Umfeldern zuwenden oder in diesen aufwachsen? In dieser Online-Fortbildung werden Grund­lagen\, Konzepte und wirksame Ansätze der Rechts­­extremismus­­prävention vorgestellt. Die Online-Fortbildung findet in drei Modulen à zwei Stunden statt. \nTermine der Folgemodule: 20.11. und 27.11. jeweils 10-12 Uhr \nTeilnahmegebühr: 60\,00€ \nAnmeldung: anmeldung@cultures-interactive.de (Betreff: Basiskurs)
URL:https://kooperationsverbund-rechtsextremismuspraevention.de/event/basiskurs-rechtsextremismus-modulare-online-fortbildung-von-cultures-interactive/
LOCATION:online
END:VEVENT
END:VCALENDAR