BEGIN:VCALENDAR
VERSION:2.0
PRODID:-//Kooperationsverbund Rechtsextremismusprävention - ECPv6.15.20//NONSGML v1.0//EN
CALSCALE:GREGORIAN
METHOD:PUBLISH
X-WR-CALNAME:Kooperationsverbund Rechtsextremismusprävention
X-ORIGINAL-URL:https://kooperationsverbund-rechtsextremismuspraevention.de
X-WR-CALDESC:Veranstaltungen für Kooperationsverbund Rechtsextremismusprävention
REFRESH-INTERVAL;VALUE=DURATION:PT1H
X-Robots-Tag:noindex
X-PUBLISHED-TTL:PT1H
BEGIN:VTIMEZONE
TZID:Europe/Berlin
BEGIN:DAYLIGHT
TZOFFSETFROM:+0100
TZOFFSETTO:+0200
TZNAME:CEST
DTSTART:20240331T010000
END:DAYLIGHT
BEGIN:STANDARD
TZOFFSETFROM:+0200
TZOFFSETTO:+0100
TZNAME:CET
DTSTART:20241027T010000
END:STANDARD
BEGIN:DAYLIGHT
TZOFFSETFROM:+0100
TZOFFSETTO:+0200
TZNAME:CEST
DTSTART:20250330T010000
END:DAYLIGHT
BEGIN:STANDARD
TZOFFSETFROM:+0200
TZOFFSETTO:+0100
TZNAME:CET
DTSTART:20251026T010000
END:STANDARD
BEGIN:DAYLIGHT
TZOFFSETFROM:+0100
TZOFFSETTO:+0200
TZNAME:CEST
DTSTART:20260329T010000
END:DAYLIGHT
BEGIN:STANDARD
TZOFFSETFROM:+0200
TZOFFSETTO:+0100
TZNAME:CET
DTSTART:20261025T010000
END:STANDARD
END:VTIMEZONE
BEGIN:VEVENT
DTSTART;TZID=Europe/Berlin:20251120T180000
DTEND;TZID=Europe/Berlin:20251120T200000
DTSTAMP:20260422T052636
CREATED:20251110T105257Z
LAST-MODIFIED:20251110T105710Z
UID:1669-1763661600-1763668800@kooperationsverbund-rechtsextremismuspraevention.de
SUMMARY:Ringvorlesung „Rechtsextremismus\, Recht und Justiz“ - Rechtsextremismus und Strafrecht
DESCRIPTION:Der Vortrag beleuchtet die Fortschritte aber auch die nach wie vor bestehenden Defizite in der strafrechtlichen Verfolgung rechter Gewaltdelikte. Er bietet einen Überblick über die bestehenden Normen und diskutierten Gesetzeslücken im Bereich der „Hate Crimes“. Der Vortrag legt ein besonderes Augenmerk auf existierende Vollzugsdefizite bei Polizei\, Staatsanwaltschaften und Gerichten. \nReferentin: Dr. Kati Lang\, Rechtsanwältin \n\nDie Vorlesung ist offen für alle Interessierten\, keine Voranmeldung nötig.\nMehr Infos unter: https://www.gesichtzeigen.de/angebote/schwerpunktbereich-justiz-rechtsextremismus/#veranstaltungen
URL:https://kooperationsverbund-rechtsextremismuspraevention.de/event/ringvorlesung-rechtsextremismus-recht-und-justiz-rechtsextremismus-und-strafrecht/
LOCATION:Freie Universität Berlin\, Hörsaal II\, Van’t-Hoff-Straße 8\, Berlin\, 14195
END:VEVENT
END:VCALENDAR