BEGIN:VCALENDAR
VERSION:2.0
PRODID:-//Kooperationsverbund Rechtsextremismusprävention - ECPv6.15.20//NONSGML v1.0//EN
CALSCALE:GREGORIAN
METHOD:PUBLISH
X-WR-CALNAME:Kooperationsverbund Rechtsextremismusprävention
X-ORIGINAL-URL:https://kooperationsverbund-rechtsextremismuspraevention.de
X-WR-CALDESC:Veranstaltungen für Kooperationsverbund Rechtsextremismusprävention
REFRESH-INTERVAL;VALUE=DURATION:PT1H
X-Robots-Tag:noindex
X-PUBLISHED-TTL:PT1H
BEGIN:VTIMEZONE
TZID:Europe/Berlin
BEGIN:DAYLIGHT
TZOFFSETFROM:+0100
TZOFFSETTO:+0200
TZNAME:CEST
DTSTART:20240331T010000
END:DAYLIGHT
BEGIN:STANDARD
TZOFFSETFROM:+0200
TZOFFSETTO:+0100
TZNAME:CET
DTSTART:20241027T010000
END:STANDARD
BEGIN:DAYLIGHT
TZOFFSETFROM:+0100
TZOFFSETTO:+0200
TZNAME:CEST
DTSTART:20250330T010000
END:DAYLIGHT
BEGIN:STANDARD
TZOFFSETFROM:+0200
TZOFFSETTO:+0100
TZNAME:CET
DTSTART:20251026T010000
END:STANDARD
BEGIN:DAYLIGHT
TZOFFSETFROM:+0100
TZOFFSETTO:+0200
TZNAME:CEST
DTSTART:20260329T010000
END:DAYLIGHT
BEGIN:STANDARD
TZOFFSETFROM:+0200
TZOFFSETTO:+0100
TZNAME:CET
DTSTART:20261025T010000
END:STANDARD
END:VTIMEZONE
BEGIN:VEVENT
DTSTART;TZID=Europe/Berlin:20251127T180000
DTEND;TZID=Europe/Berlin:20251127T200000
DTSTAMP:20260422T052724
CREATED:20251110T105945Z
LAST-MODIFIED:20251110T105945Z
UID:1677-1764266400-1764273600@kooperationsverbund-rechtsextremismuspraevention.de
SUMMARY:Ringvorlesung „Rechtsextremismus\, Recht und Justiz“- Nebenklage in Prozessen rechtsextremer Gewalt
DESCRIPTION:Rechte Gewalttaten haben in den letzten Jahren erheblich zugenommen. Opfer dieser Taten nehmen oftmals als Nebenkläger*innen an den Prozessen gegen die Täter teil. Auf welche Widerstände stoßen die Nebenkläger*innen in Polizei\, Staatsanwaltschaft und Justiz dabei? Wie treten rechte Täter vor Gericht auf? Und welche Chancen können Nebenklagen in solchen Prozessen schaffen? Der Vortrag erörtert diese Themen an konkreten Beispielen. \nReferentin: Kristin Pietrzyk\, Rechtsanwältin \n\nDie Vorlesung ist offen für alle Interessierten\, keine Voranmeldung nötig.\nMehr Infos unter: https://www.gesichtzeigen.de/angebote/schwerpunktbereich-justiz-rechtsextremismus/#veranstaltungen
URL:https://kooperationsverbund-rechtsextremismuspraevention.de/event/ringvorlesung-rechtsextremismus-recht-und-justiz-nebenklage-in-prozessen-rechtsextremer-gewalt/
LOCATION:Freie Universität Berlin\, Hörsaal II\, Van’t-Hoff-Straße 8\, Berlin\, 14195
END:VEVENT
END:VCALENDAR