BEGIN:VCALENDAR
VERSION:2.0
PRODID:-//Kooperationsverbund Rechtsextremismusprävention - ECPv6.15.20//NONSGML v1.0//EN
CALSCALE:GREGORIAN
METHOD:PUBLISH
X-ORIGINAL-URL:https://kooperationsverbund-rechtsextremismuspraevention.de
X-WR-CALDESC:Veranstaltungen für Kooperationsverbund Rechtsextremismusprävention
REFRESH-INTERVAL;VALUE=DURATION:PT1H
X-Robots-Tag:noindex
X-PUBLISHED-TTL:PT1H
BEGIN:VTIMEZONE
TZID:Europe/Berlin
BEGIN:DAYLIGHT
TZOFFSETFROM:+0100
TZOFFSETTO:+0200
TZNAME:CEST
DTSTART:20240331T010000
END:DAYLIGHT
BEGIN:STANDARD
TZOFFSETFROM:+0200
TZOFFSETTO:+0100
TZNAME:CET
DTSTART:20241027T010000
END:STANDARD
BEGIN:DAYLIGHT
TZOFFSETFROM:+0100
TZOFFSETTO:+0200
TZNAME:CEST
DTSTART:20250330T010000
END:DAYLIGHT
BEGIN:STANDARD
TZOFFSETFROM:+0200
TZOFFSETTO:+0100
TZNAME:CET
DTSTART:20251026T010000
END:STANDARD
BEGIN:DAYLIGHT
TZOFFSETFROM:+0100
TZOFFSETTO:+0200
TZNAME:CEST
DTSTART:20260329T010000
END:DAYLIGHT
BEGIN:STANDARD
TZOFFSETFROM:+0200
TZOFFSETTO:+0100
TZNAME:CET
DTSTART:20261025T010000
END:STANDARD
END:VTIMEZONE
BEGIN:VEVENT
DTSTART;TZID=Europe/Berlin:20251202T090000
DTEND;TZID=Europe/Berlin:20251202T130000
DTSTAMP:20260422T035538
CREATED:20250731T131448Z
LAST-MODIFIED:20250915T080510Z
UID:621-1764666000-1764680400@kooperationsverbund-rechtsextremismuspraevention.de
SUMMARY:Kindheit rechts außen - Vertiefungsmodul - modulare Fortbildungsreihe
DESCRIPTION:Wie ergeht es Kindern\, die in einer extrem rechten Familie aufwachsen? Im Workshop geben wir einen Einblick in das Thema und beleuchten Familiensysteme sowie Erziehungsmethoden\, auch vor historischem Hintergrund. Mit einer Vielfalt an Methoden eröffnen wir unterschiedliche Perspektiven und werfen zum Abschluss einen Blick auf Herausforderungen und Handlungsoptionen. \nDer Kooperationsverbund Rechtsextremismusprävention (KompRex) bietet von Oktober bis Dezember 2025 eine modulare Fortbildungsreihe an. Die Reihe richtet sich an Fachkräfte aus der Rechtsextremismusprävention. \nIn zwei einführenden Workshops soll Grundlagenwissen über Erscheinungsformen des Rechtsextremismus vermittelt werden. In den darauffolgenden Vertiefungsworkshops führen die Träger des KompRex in die Herausforderungen mit Rechtsextremismus in ihren jeweiligen Feldern ein. \nDie Anmeldung ist ab sofort hier möglich: https://bagkr.de/anmeldung-fobi-2025/  \nSollte die Nachfrage das Angebot bei weitem übersteigen\, werden einzelne Module Anfang 2026 wiederholt.
URL:https://kooperationsverbund-rechtsextremismuspraevention.de/event/kindheit-und-rechtsextremismus-vertiefungsmodul-modulare-fortbildungsreihe/
LOCATION:online
END:VEVENT
END:VCALENDAR