BEGIN:VCALENDAR
VERSION:2.0
PRODID:-//Kooperationsverbund Rechtsextremismusprävention - ECPv6.15.20//NONSGML v1.0//EN
CALSCALE:GREGORIAN
METHOD:PUBLISH
X-WR-CALNAME:Kooperationsverbund Rechtsextremismusprävention
X-ORIGINAL-URL:https://kooperationsverbund-rechtsextremismuspraevention.de
X-WR-CALDESC:Veranstaltungen für Kooperationsverbund Rechtsextremismusprävention
REFRESH-INTERVAL;VALUE=DURATION:PT1H
X-Robots-Tag:noindex
X-PUBLISHED-TTL:PT1H
BEGIN:VTIMEZONE
TZID:Europe/Berlin
BEGIN:DAYLIGHT
TZOFFSETFROM:+0100
TZOFFSETTO:+0200
TZNAME:CEST
DTSTART:20240331T010000
END:DAYLIGHT
BEGIN:STANDARD
TZOFFSETFROM:+0200
TZOFFSETTO:+0100
TZNAME:CET
DTSTART:20241027T010000
END:STANDARD
BEGIN:DAYLIGHT
TZOFFSETFROM:+0100
TZOFFSETTO:+0200
TZNAME:CEST
DTSTART:20250330T010000
END:DAYLIGHT
BEGIN:STANDARD
TZOFFSETFROM:+0200
TZOFFSETTO:+0100
TZNAME:CET
DTSTART:20251026T010000
END:STANDARD
BEGIN:DAYLIGHT
TZOFFSETFROM:+0100
TZOFFSETTO:+0200
TZNAME:CEST
DTSTART:20260329T010000
END:DAYLIGHT
BEGIN:STANDARD
TZOFFSETFROM:+0200
TZOFFSETTO:+0100
TZNAME:CET
DTSTART:20261025T010000
END:STANDARD
END:VTIMEZONE
BEGIN:VEVENT
DTSTART;TZID=Europe/Berlin:20251209T090000
DTEND;TZID=Europe/Berlin:20251209T130000
DTSTAMP:20260422T035147
CREATED:20250731T131743Z
LAST-MODIFIED:20250915T080531Z
UID:627-1765270800-1765285200@kooperationsverbund-rechtsextremismuspraevention.de
SUMMARY:Rechtsextreme Einflussnahme in der Arbeitswelt: Akteur*innen und Handlungsoptionen - Vertiefungsmodul - modulare Fortbildungsreihe
DESCRIPTION:Jede*r dritte Beschäftigte in Deutschland hat bereits rechtsextreme Einstellungen am Arbeitsplatz wahrgenommen. Viel zu oft werden diese Fälle ignoriert\, denn Führungskräften wie Mitarbeitenden fehlt es an praktischem Wissen. Der Workshop gibt einen Überblick über das Thema Rechtsextremismus in der Arbeitswelt. Es werden rechtsextreme Strategien und Akteur*innen im Kontext Wirtschaft und Arbeit aufgezeigt und besprochen\, wie sich deren Einflussnahme hier erkennen lässt. Außerdem werden Handlungsoptionen diskutiert\, um der Verbreitung von Rechtsextremismus am Arbeitsplatz entgegenzuwirken. \nDer Kooperationsverbund Rechtsextremismusprävention (KompRex) bietet von Oktober bis Dezember 2025 eine modulare Fortbildungsreihe an. Die Reihe richtet sich an Fachkräfte aus der Rechtsextremismusprävention. \nIn zwei einführenden Workshops soll Grundlagenwissen über Erscheinungsformen des Rechtsextremismus vermittelt werden. In den darauffolgenden Vertiefungsworkshops führen die Träger des KompRex in die Herausforderungen mit Rechtsextremismus in ihren jeweiligen Feldern ein. \nDie Anmeldung ist ab sofort hier möglich: https://bagkr.de/anmeldung-fobi-2025/  \nSollte die Nachfrage das Angebot bei weitem übersteigen\, werden einzelne Module Anfang 2026 wiederholt.
URL:https://kooperationsverbund-rechtsextremismuspraevention.de/event/wirtschaft-und-rechtsextremismus-vertiefungsmodul-modulare-fortbildungsreihe/
LOCATION:online
END:VEVENT
BEGIN:VEVENT
DTSTART;TZID=Europe/Berlin:20251209T140000
DTEND;TZID=Europe/Berlin:20251209T170000
DTSTAMP:20260422T035147
CREATED:20251112T094724Z
LAST-MODIFIED:20251112T094724Z
UID:1707-1765288800-1765299600@kooperationsverbund-rechtsextremismuspraevention.de
SUMMARY:Genderreflektierte Rechtsextremismusprävention - Online Workshop
DESCRIPTION:Antifeminismus\, Frauenhass\, traditionelle Rollenbilder und die Abwertung von LGBTQI+-Personen sind eng mit Rechtsextremismus verknüpft. Solche Vorstellungen sprechen sowohl (junge) Männer* als auch Frauen* an und sollten in Präventions- und Interventionsangeboten berücksichtigt werden. Dieses praxisorientierte Online-Seminar beleuchtet die ideologische Instrumentalisierung von Genderthemen\, geschlechtsspezifische Rollenangebote in rechtsextremen Szenen sowie Ansätze für eine genderreflektierte Arbeit – auch im Kontext von Familienhilfe und Kinderschutz. \nTeilnahmegebühr: 30\,00€ \nAnmeldung: anmeldung@cultures-interactive.de (Betreff: GeRp)
URL:https://kooperationsverbund-rechtsextremismuspraevention.de/event/genderreflektierte-rechtsextremismuspraevention-online-workshop/
LOCATION:online
END:VEVENT
END:VCALENDAR