BEGIN:VCALENDAR
VERSION:2.0
PRODID:-//Kooperationsverbund Rechtsextremismusprävention - ECPv6.15.20//NONSGML v1.0//EN
CALSCALE:GREGORIAN
METHOD:PUBLISH
X-WR-CALNAME:Kooperationsverbund Rechtsextremismusprävention
X-ORIGINAL-URL:https://kooperationsverbund-rechtsextremismuspraevention.de
X-WR-CALDESC:Veranstaltungen für Kooperationsverbund Rechtsextremismusprävention
REFRESH-INTERVAL;VALUE=DURATION:PT1H
X-Robots-Tag:noindex
X-PUBLISHED-TTL:PT1H
BEGIN:VTIMEZONE
TZID:Europe/Berlin
BEGIN:DAYLIGHT
TZOFFSETFROM:+0100
TZOFFSETTO:+0200
TZNAME:CEST
DTSTART:20240331T010000
END:DAYLIGHT
BEGIN:STANDARD
TZOFFSETFROM:+0200
TZOFFSETTO:+0100
TZNAME:CET
DTSTART:20241027T010000
END:STANDARD
BEGIN:DAYLIGHT
TZOFFSETFROM:+0100
TZOFFSETTO:+0200
TZNAME:CEST
DTSTART:20250330T010000
END:DAYLIGHT
BEGIN:STANDARD
TZOFFSETFROM:+0200
TZOFFSETTO:+0100
TZNAME:CET
DTSTART:20251026T010000
END:STANDARD
BEGIN:DAYLIGHT
TZOFFSETFROM:+0100
TZOFFSETTO:+0200
TZNAME:CEST
DTSTART:20260329T010000
END:DAYLIGHT
BEGIN:STANDARD
TZOFFSETFROM:+0200
TZOFFSETTO:+0100
TZNAME:CET
DTSTART:20261025T010000
END:STANDARD
END:VTIMEZONE
BEGIN:VEVENT
DTSTART;TZID=Europe/Berlin:20251211T180000
DTEND;TZID=Europe/Berlin:20251211T200000
DTSTAMP:20260422T035148
CREATED:20251110T115242Z
LAST-MODIFIED:20251110T115242Z
UID:1685-1765476000-1765483200@kooperationsverbund-rechtsextremismuspraevention.de
SUMMARY:Ringvorlesung „Rechtsextremismus\, Recht und Justiz“ - Die juristische Aufarbeitung des Attentats von Hanau
DESCRIPTION:Am 19. Februar 2020 ermordete Tobias R. in Hanau neun Menschen mit Migrationshintergrund\, seine Mutter und sich selbst. Die Aufarbeitung offenbarte verheerende Missstände: Ein psychisch auffälliger\, polizeibekannter Rechtsextremer besaß legale Schusswaffen\, der Polizeinotruf funktionierte nicht\, ein Notausgang war verschlossen. Eine Verkettung unglücklicher Umstände oder ein Lehrstück über Staatsversagen\, Blindheit auf dem rechten Auge\, Rassismus und politische Vertuschung? Darum wird es in diesem Vortrag gehen. \nReferentin: Prof. Dr. Dennis Bock\, Christian-Albrechts-Universität zu Kiel \n\nDie Vorlesung ist offen für alle Interessierten\, keine Voranmeldung nötig.\nMehr Infos unter: https://www.gesichtzeigen.de/angebote/schwerpunktbereich-justiz-rechtsextremismus/#veranstaltungen
URL:https://kooperationsverbund-rechtsextremismuspraevention.de/event/ringvorlesung-rechtsextremismus-recht-und-justiz-die-juristische-aufarbeitung-des-attentats-von-hanau/
LOCATION:Freie Universität Berlin\, Hörsaal II\, Van’t-Hoff-Straße 8\, Berlin\, 14195
END:VEVENT
END:VCALENDAR