BEGIN:VCALENDAR
VERSION:2.0
PRODID:-//Kooperationsverbund Rechtsextremismusprävention - ECPv6.15.20//NONSGML v1.0//EN
CALSCALE:GREGORIAN
METHOD:PUBLISH
X-ORIGINAL-URL:https://kooperationsverbund-rechtsextremismuspraevention.de
X-WR-CALDESC:Veranstaltungen für Kooperationsverbund Rechtsextremismusprävention
REFRESH-INTERVAL;VALUE=DURATION:PT1H
X-Robots-Tag:noindex
X-PUBLISHED-TTL:PT1H
BEGIN:VTIMEZONE
TZID:Europe/Berlin
BEGIN:DAYLIGHT
TZOFFSETFROM:+0100
TZOFFSETTO:+0200
TZNAME:CEST
DTSTART:20240331T010000
END:DAYLIGHT
BEGIN:STANDARD
TZOFFSETFROM:+0200
TZOFFSETTO:+0100
TZNAME:CET
DTSTART:20241027T010000
END:STANDARD
BEGIN:DAYLIGHT
TZOFFSETFROM:+0100
TZOFFSETTO:+0200
TZNAME:CEST
DTSTART:20250330T010000
END:DAYLIGHT
BEGIN:STANDARD
TZOFFSETFROM:+0200
TZOFFSETTO:+0100
TZNAME:CET
DTSTART:20251026T010000
END:STANDARD
BEGIN:DAYLIGHT
TZOFFSETFROM:+0100
TZOFFSETTO:+0200
TZNAME:CEST
DTSTART:20260329T010000
END:DAYLIGHT
BEGIN:STANDARD
TZOFFSETFROM:+0200
TZOFFSETTO:+0100
TZNAME:CET
DTSTART:20261025T010000
END:STANDARD
END:VTIMEZONE
BEGIN:VEVENT
DTSTART;TZID=Europe/Berlin:20251217T150000
DTEND;TZID=Europe/Berlin:20251217T163000
DTSTAMP:20260422T035228
CREATED:20250731T073950Z
LAST-MODIFIED:20250911T104739Z
UID:547-1765983600-1765989000@kooperationsverbund-rechtsextremismuspraevention.de
SUMMARY:Sicherheitssprechstunde "Landtagswahlen 2026 - Schutz von Kandidierenden und zivilgesellschaftlichem Engagement"
DESCRIPTION:Die letzte Sicherheitssprechstunde in diesem Jahr widmet sich den Landtagswahlen 2026 und dem Schutz von Kandidierenden und zivilgesellschaftlichem Engagement und findet gemeinsam mit Lea Lochau (KompRex) und Benjamin Winkler (Büroleitung Leipzig) von der Amadeu Antonio Stiftung. \nUm auf die akuten Bedrohungen von Akteur*innen der Zivilgesellschaft durch rechtsextreme Kampagnen und Angriffe zu reagieren\, bietet das Kompetenzzentrum für Rechtsextremismus und Demokratieschutz der Amadeu Antonio Stiftung monatlich eine Online-Sicherheitssprechstunde an. \nZiel ist es\, die Öffentlichkeit für die Bedrohung durch rechtsextreme Akteur*innen zu sensibilisieren und den Austausch der Betroffenen zu fördern. In den Sprechstunden werden Themenschwerpunkte gesetzt und Inputs gegeben\, das Wichtigste ist aber der Austausch zwischen den Teilnehmenden. \nUm einen produktiven Austausch zu ermöglichen\, können nur maximal 25 Personen an der Sprechstunde teilnehmen. Anmeldung unter Angabe von Namen\, Träger/Verein sowie Bedarf/Motivation bitte an: Sicherheitssprechstunde@komprex.de
URL:https://kooperationsverbund-rechtsextremismuspraevention.de/event/sicherheitssprechstunde-2/
LOCATION:online
END:VEVENT
END:VCALENDAR