BEGIN:VCALENDAR
VERSION:2.0
PRODID:-//Kooperationsverbund Rechtsextremismusprävention - ECPv6.15.20//NONSGML v1.0//EN
CALSCALE:GREGORIAN
METHOD:PUBLISH
X-ORIGINAL-URL:https://kooperationsverbund-rechtsextremismuspraevention.de
X-WR-CALDESC:Veranstaltungen für Kooperationsverbund Rechtsextremismusprävention
REFRESH-INTERVAL;VALUE=DURATION:PT1H
X-Robots-Tag:noindex
X-PUBLISHED-TTL:PT1H
BEGIN:VTIMEZONE
TZID:Europe/Berlin
BEGIN:DAYLIGHT
TZOFFSETFROM:+0100
TZOFFSETTO:+0200
TZNAME:CEST
DTSTART:20250330T010000
END:DAYLIGHT
BEGIN:STANDARD
TZOFFSETFROM:+0200
TZOFFSETTO:+0100
TZNAME:CET
DTSTART:20251026T010000
END:STANDARD
BEGIN:DAYLIGHT
TZOFFSETFROM:+0100
TZOFFSETTO:+0200
TZNAME:CEST
DTSTART:20260329T010000
END:DAYLIGHT
BEGIN:STANDARD
TZOFFSETFROM:+0200
TZOFFSETTO:+0100
TZNAME:CET
DTSTART:20261025T010000
END:STANDARD
BEGIN:DAYLIGHT
TZOFFSETFROM:+0100
TZOFFSETTO:+0200
TZNAME:CEST
DTSTART:20270328T010000
END:DAYLIGHT
BEGIN:STANDARD
TZOFFSETFROM:+0200
TZOFFSETTO:+0100
TZNAME:CET
DTSTART:20271031T010000
END:STANDARD
END:VTIMEZONE
BEGIN:VEVENT
DTSTART;TZID=Europe/Berlin:20260115T093000
DTEND;TZID=Europe/Berlin:20260115T120000
DTSTAMP:20260422T021557
CREATED:20250911T125042Z
LAST-MODIFIED:20260113T102459Z
UID:1305-1768469400-1768478400@kooperationsverbund-rechtsextremismuspraevention.de
SUMMARY:Sich gegenseitig stark machen - Methoden der kollegialen Beratung - Vertiefungsmodul - modulare Fortbildungsreihe
DESCRIPTION:In diesem Modul schaffen wir eine gemeinsame Grundlage\, um herausfordernde Themen im Team konstruktiv zu besprechen. Wir stellen verschiedene Methoden der kollegialen Beratung vor und erproben sie in der Praxis. Dabei diskutieren wir Chancen und mögliche Fallstricke und entwickeln Ideen\, wie die Ansätze im eigenen Arbeitsalltag wirksam genutzt werden können. \nDer Kooperationsverbund Rechtsextremismusprävention (KompRex) bietet von Oktober bis Januar 2026 eine modulare Fortbildungsreihe an. Die Reihe richtet sich an Fachkräfte aus der Rechtsextremismusprävention. \nIn zwei einführenden Workshops soll Grundlagenwissen über Erscheinungsformen des Rechtsextremismus vermittelt werden. In den darauffolgenden Vertiefungsworkshops führen die Träger des KompRex in die Herausforderungen mit Rechtsextremismus in ihren jeweiligen Feldern ein. \nDie Anmeldung ist bereits abgeschlossen. \nSollte die Nachfrage das Angebot bei weitem übersteigen\, werden einzelne Module Anfang 2026 wiederholt. \n 
URL:https://kooperationsverbund-rechtsextremismuspraevention.de/event/sich-gegenseitig-stark-machen-methoden-der-kollegialen-beratung-vertiefungsmodul-modulare-fortbildungsreihe/
LOCATION:online
END:VEVENT
END:VCALENDAR