BEGIN:VCALENDAR
VERSION:2.0
PRODID:-//Kooperationsverbund Rechtsextremismusprävention - ECPv6.15.20//NONSGML v1.0//EN
CALSCALE:GREGORIAN
METHOD:PUBLISH
X-ORIGINAL-URL:https://kooperationsverbund-rechtsextremismuspraevention.de
X-WR-CALDESC:Veranstaltungen für Kooperationsverbund Rechtsextremismusprävention
REFRESH-INTERVAL;VALUE=DURATION:PT1H
X-Robots-Tag:noindex
X-PUBLISHED-TTL:PT1H
BEGIN:VTIMEZONE
TZID:Europe/Berlin
BEGIN:DAYLIGHT
TZOFFSETFROM:+0100
TZOFFSETTO:+0200
TZNAME:CEST
DTSTART:20250330T010000
END:DAYLIGHT
BEGIN:STANDARD
TZOFFSETFROM:+0200
TZOFFSETTO:+0100
TZNAME:CET
DTSTART:20251026T010000
END:STANDARD
BEGIN:DAYLIGHT
TZOFFSETFROM:+0100
TZOFFSETTO:+0200
TZNAME:CEST
DTSTART:20260329T010000
END:DAYLIGHT
BEGIN:STANDARD
TZOFFSETFROM:+0200
TZOFFSETTO:+0100
TZNAME:CET
DTSTART:20261025T010000
END:STANDARD
BEGIN:DAYLIGHT
TZOFFSETFROM:+0100
TZOFFSETTO:+0200
TZNAME:CEST
DTSTART:20270328T010000
END:DAYLIGHT
BEGIN:STANDARD
TZOFFSETFROM:+0200
TZOFFSETTO:+0100
TZNAME:CET
DTSTART:20271031T010000
END:STANDARD
END:VTIMEZONE
BEGIN:VEVENT
DTSTART;TZID=Europe/Berlin:20260304T160000
DTEND;TZID=Europe/Berlin:20260304T180000
DTSTAMP:20260421T231108
CREATED:20260218T141803Z
LAST-MODIFIED:20260218T141853Z
UID:2073-1772640000-1772647200@kooperationsverbund-rechtsextremismuspraevention.de
SUMMARY:AG Ländliche Räume: Umgang mit rechtsextremen Wahlerfolgen
DESCRIPTION:Du engagierst Dich dort\, wo es besonders wichtig und oft besonders herausfordernd ist: in ländlichen Räumen. Genau deshalb laden wir Dich ein zur digitalen Sitzung der AG Ländliche Räume. \nMit der AG Ländliche Räume möchten wir im Rahmen des Kompetenzzentrum Rechtsextremismus und Demokratieschutz einen Ort des Austauschs schaffen. Über Bundesländergrenzen hinweg. Ein Raum\, in dem Engagierte voneinander lernen\, Erfahrungen teilen und gemeinsam Strategien entwickeln\, um demokratische Kultur in ländlichen Regionen zu stärken. \nWas erwartet euch?\n\n„Demokratisches Engagement unter Druck” – Input von Cornelius Helmert (IDZ\, Jena) \n\nDeutschlandweit setzt sich eine aktive demokratische Zivilgesellschaft wirksam für Demokratie und gesellschaftlichen Zusammenhalt ein – und gerät damit zunehmend unter Druck. Angriffe\, Diffamierung und finanzielle Unsicherheiten stellen Initiativen und Engagierte vor neue Herausforderungen. Cornelius Helmert (IDZ) ordnet diese Entwicklungen ein und zeigt anhand von Forschungsergebnissen\, insbesondere aus Thüringen\, welche Folgen sich daraus für die demokratische Zivilgesellschaft ergeben. Der Input ist als Impuls für den gemeinsamen Austausch\, insbesondere zu Handlungsmöglichkeiten\, konzipiert. \n\nAustausch & Vernetzung\nWie gelingt es\, Menschen für Engagement zu gewinnen – oder zu halten? Welche Herausforderungen entstehen durch rechtsextreme Wahlerfolge\, und wie können wir uns darauf vorbereiten? Gemeinsam tauschen wir Erfahrungen\, Strategien und Fragen aus.\nGemeinsamer Ausblick\nAuf Grundlage der Bedarfserhebung aus dem November 2025 blicken wir auf die weitere Arbeit in der AG Ländliche Räume.\n\nAnmeldung\nWir freuen uns auf eure Anmeldung bis zum 03.03.2026 per E-Mail an hannes.mueller@amadeu-antonio-stiftung.de.
URL:https://kooperationsverbund-rechtsextremismuspraevention.de/event/ag-laendliche-raeume/
LOCATION:online
END:VEVENT
END:VCALENDAR