BEGIN:VCALENDAR
VERSION:2.0
PRODID:-//Kooperationsverbund Rechtsextremismusprävention - ECPv6.15.20//NONSGML v1.0//EN
CALSCALE:GREGORIAN
METHOD:PUBLISH
X-WR-CALNAME:Kooperationsverbund Rechtsextremismusprävention
X-ORIGINAL-URL:https://kooperationsverbund-rechtsextremismuspraevention.de
X-WR-CALDESC:Veranstaltungen für Kooperationsverbund Rechtsextremismusprävention
REFRESH-INTERVAL;VALUE=DURATION:PT1H
X-Robots-Tag:noindex
X-PUBLISHED-TTL:PT1H
BEGIN:VTIMEZONE
TZID:Europe/Berlin
BEGIN:DAYLIGHT
TZOFFSETFROM:+0100
TZOFFSETTO:+0200
TZNAME:CEST
DTSTART:20250330T010000
END:DAYLIGHT
BEGIN:STANDARD
TZOFFSETFROM:+0200
TZOFFSETTO:+0100
TZNAME:CET
DTSTART:20251026T010000
END:STANDARD
BEGIN:DAYLIGHT
TZOFFSETFROM:+0100
TZOFFSETTO:+0200
TZNAME:CEST
DTSTART:20260329T010000
END:DAYLIGHT
BEGIN:STANDARD
TZOFFSETFROM:+0200
TZOFFSETTO:+0100
TZNAME:CET
DTSTART:20261025T010000
END:STANDARD
BEGIN:DAYLIGHT
TZOFFSETFROM:+0100
TZOFFSETTO:+0200
TZNAME:CEST
DTSTART:20270328T010000
END:DAYLIGHT
BEGIN:STANDARD
TZOFFSETFROM:+0200
TZOFFSETTO:+0100
TZNAME:CET
DTSTART:20271031T010000
END:STANDARD
END:VTIMEZONE
BEGIN:VEVENT
DTSTART;TZID=Europe/Berlin:20260511T090000
DTEND;TZID=Europe/Berlin:20260511T130000
DTSTAMP:20260421T231017
CREATED:20260407T123051Z
LAST-MODIFIED:20260407T125102Z
UID:2235-1778490000-1778504400@kooperationsverbund-rechtsextremismuspraevention.de
SUMMARY:„Mannhaft werden“ – Relevanz von Gender- & Familienpolitiken im Rechtsextremismus (Modulare Fortbildungsreihe KompRex)
DESCRIPTION:Antifeminismus ist eine zentrale Ideologie im Rechtsextremismus\, die sich gegen die Gleichstellung der Frauen genauso wie gegen geschlechtliche und sexuelle Vielfalt richtet. Auf der anderen Seite werden Frauen\, queere Menschen und ihre Rechte instrumentalisiert\, um rassistische Politiken zu legitimieren. Das Seminar gibt einen Überblick über Begriffe und rechtsextreme Strategien: Welche Geschlechterbilder und -vorstellungen kennzeichnen den Rechtsextremismus? Was und wer steckt hinter Anti-Gender-Mobilisierungen? Was verbirgt sich hinter „aktivierender Familienpolitik“\, der Inszenierung als „wahre Feministinnen“ oder dem „Schutz unserer Frauen & Kinder“? Und warum sind diese Themen so anschlussfähig? \n(Der Workshop wird von der Amadeu Antonio Stiftung durchgeführt.) \nAnmeldung unter: https://bagkr.de/anmeldung-fobi-2026/
URL:https://kooperationsverbund-rechtsextremismuspraevention.de/event/mannhaft-werden-relevanz-von-gender-familienpolitiken-im-rechtsextremismus-modulare-fortbildungsreihe-komprex/
LOCATION:online
END:VEVENT
END:VCALENDAR