BEGIN:VCALENDAR
VERSION:2.0
PRODID:-//Kooperationsverbund Rechtsextremismusprävention - ECPv6.15.20//NONSGML v1.0//EN
CALSCALE:GREGORIAN
METHOD:PUBLISH
X-WR-CALNAME:Kooperationsverbund Rechtsextremismusprävention
X-ORIGINAL-URL:https://kooperationsverbund-rechtsextremismuspraevention.de
X-WR-CALDESC:Veranstaltungen für Kooperationsverbund Rechtsextremismusprävention
REFRESH-INTERVAL;VALUE=DURATION:PT1H
X-Robots-Tag:noindex
X-PUBLISHED-TTL:PT1H
BEGIN:VTIMEZONE
TZID:Europe/Berlin
BEGIN:DAYLIGHT
TZOFFSETFROM:+0100
TZOFFSETTO:+0200
TZNAME:CEST
DTSTART:20250330T010000
END:DAYLIGHT
BEGIN:STANDARD
TZOFFSETFROM:+0200
TZOFFSETTO:+0100
TZNAME:CET
DTSTART:20251026T010000
END:STANDARD
BEGIN:DAYLIGHT
TZOFFSETFROM:+0100
TZOFFSETTO:+0200
TZNAME:CEST
DTSTART:20260329T010000
END:DAYLIGHT
BEGIN:STANDARD
TZOFFSETFROM:+0200
TZOFFSETTO:+0100
TZNAME:CET
DTSTART:20261025T010000
END:STANDARD
BEGIN:DAYLIGHT
TZOFFSETFROM:+0100
TZOFFSETTO:+0200
TZNAME:CEST
DTSTART:20270328T010000
END:DAYLIGHT
BEGIN:STANDARD
TZOFFSETFROM:+0200
TZOFFSETTO:+0100
TZNAME:CET
DTSTART:20271031T010000
END:STANDARD
END:VTIMEZONE
BEGIN:VEVENT
DTSTART;TZID=Europe/Berlin:20260513T153000
DTEND;TZID=Europe/Berlin:20260513T170000
DTSTAMP:20260421T231015
CREATED:20260119T104728Z
LAST-MODIFIED:20260421T140528Z
UID:1921-1778686200-1778691600@kooperationsverbund-rechtsextremismuspraevention.de
SUMMARY:Online-Sicherheitssprechstunde „Umgang mit rechtsextremen Mitgliedern“
DESCRIPTION:In dieser Online-Sicherheitssprechstunde sprechen wir gemeinsam mit Alena Lyons von RAA – Demokratie und Bildung\, Mecklenburg-Vorpommern e.V. über den Umgang mit rechtsextremen Mitgliedern im zivilgesellschaftlichen Engagement. Welche Handlungsstrategien gibt es gegen rechtsextreme Unterwanderungen und wie können wir Einschüchterungsversuchen begegnen? \nUm auf die akuten Bedrohungen von Akteur*innen der Zivilgesellschaft durch rechtsextreme Kampagnen und Angriffe zu reagieren\, bietet das Kompetenzzentrum für Rechtsextremismus und Demokratieschutz der Amadeu Antonio Stiftung monatlich eine Online-Sicherheitssprechstunde an. \nZiel ist es\, die Öffentlichkeit für die Bedrohung durch rechtsextreme Akteur*innen zu sensibilisieren und den Austausch der Betroffenen zu fördern. In den Sprechstunden werden Themenschwerpunkte gesetzt und Inputs gegeben\, das Wichtigste ist aber der Austausch zwischen den Teilnehmenden. \nUm einen produktiven Austausch zu ermöglichen\, können nur maximal 25 Personen an der Sprechstunde teilnehmen. Anmeldung unter Angabe von Namen\, Träger/Verein sowie Bedarf/Motivation bitte an: Sicherheitssprechstunde@komprex.de
URL:https://kooperationsverbund-rechtsextremismuspraevention.de/event/online-sicherheitssprechstunde-4/
LOCATION:online
END:VEVENT
END:VCALENDAR