BEGIN:VCALENDAR
VERSION:2.0
PRODID:-//Kooperationsverbund Rechtsextremismusprävention - ECPv6.15.20//NONSGML v1.0//EN
CALSCALE:GREGORIAN
METHOD:PUBLISH
X-WR-CALNAME:Kooperationsverbund Rechtsextremismusprävention
X-ORIGINAL-URL:https://kooperationsverbund-rechtsextremismuspraevention.de
X-WR-CALDESC:Veranstaltungen für Kooperationsverbund Rechtsextremismusprävention
REFRESH-INTERVAL;VALUE=DURATION:PT1H
X-Robots-Tag:noindex
X-PUBLISHED-TTL:PT1H
BEGIN:VTIMEZONE
TZID:Europe/Berlin
BEGIN:DAYLIGHT
TZOFFSETFROM:+0100
TZOFFSETTO:+0200
TZNAME:CEST
DTSTART:20250330T010000
END:DAYLIGHT
BEGIN:STANDARD
TZOFFSETFROM:+0200
TZOFFSETTO:+0100
TZNAME:CET
DTSTART:20251026T010000
END:STANDARD
BEGIN:DAYLIGHT
TZOFFSETFROM:+0100
TZOFFSETTO:+0200
TZNAME:CEST
DTSTART:20260329T010000
END:DAYLIGHT
BEGIN:STANDARD
TZOFFSETFROM:+0200
TZOFFSETTO:+0100
TZNAME:CET
DTSTART:20261025T010000
END:STANDARD
BEGIN:DAYLIGHT
TZOFFSETFROM:+0100
TZOFFSETTO:+0200
TZNAME:CEST
DTSTART:20270328T010000
END:DAYLIGHT
BEGIN:STANDARD
TZOFFSETFROM:+0200
TZOFFSETTO:+0100
TZNAME:CET
DTSTART:20271031T010000
END:STANDARD
END:VTIMEZONE
BEGIN:VEVENT
DTSTART;TZID=Europe/Berlin:20260519T090000
DTEND;TZID=Europe/Berlin:20260519T130000
DTSTAMP:20260421T230933
CREATED:20260414T104203Z
LAST-MODIFIED:20260414T110831Z
UID:2363-1779181200-1779195600@kooperationsverbund-rechtsextremismuspraevention.de
SUMMARY:Genderreflektierte Rechts­extremismus­prävention (Online-Fortbildung)
DESCRIPTION:Vor-emanzi­patorische Rollen­­bilder von Männ­­lichkeit und Weib­­lich­keit\, Hass auf Frauen\, Anti­­feminismus und die Abwer­tung von LGBTQI+-Personen sind grund­legend mit Rechts­­extremis­mus verwoben. Entsprechende Rollen- und Gesellschafts­vorstellungen sprechen (junge) Männer* wie Frauen* an und sollten dementsprechend in Präventions- und Interventions­angeboten berücksichtigt werden. In diesem praxis­­orientierten Online-Seminar geht es um die ideologische Instrumen­talisierung von Gender­­themen\, um Anhänger*innen zu gewinnen\, um geschlechts­­spezi­fische Rollen­­ange­bote in rechts­­extremen Szenen und um Empfehlungen für eine gender­reflektierte Arbeit bei der es auch um eine inhaltliche Erweiterung des Arbeits­feldes zu Bereichen der Familien­hilfe und des Kindes­schutzes geht. \nAnmeldung über die Website von Cultures Interactive: https://www.cultures-interactive.de/de/genderreflektierte-rechtsextremismuspraevention.html
URL:https://kooperationsverbund-rechtsextremismuspraevention.de/event/genderreflektierte-rechtsextremismuspraevention-online-fortbildung/
LOCATION:online
END:VEVENT
END:VCALENDAR