BEGIN:VCALENDAR
VERSION:2.0
PRODID:-//Kooperationsverbund Rechtsextremismusprävention - ECPv6.15.20//NONSGML v1.0//EN
CALSCALE:GREGORIAN
METHOD:PUBLISH
X-WR-CALNAME:Kooperationsverbund Rechtsextremismusprävention
X-ORIGINAL-URL:https://kooperationsverbund-rechtsextremismuspraevention.de
X-WR-CALDESC:Veranstaltungen für Kooperationsverbund Rechtsextremismusprävention
REFRESH-INTERVAL;VALUE=DURATION:PT1H
X-Robots-Tag:noindex
X-PUBLISHED-TTL:PT1H
BEGIN:VTIMEZONE
TZID:Europe/Berlin
BEGIN:DAYLIGHT
TZOFFSETFROM:+0100
TZOFFSETTO:+0200
TZNAME:CEST
DTSTART:20250330T010000
END:DAYLIGHT
BEGIN:STANDARD
TZOFFSETFROM:+0200
TZOFFSETTO:+0100
TZNAME:CET
DTSTART:20251026T010000
END:STANDARD
BEGIN:DAYLIGHT
TZOFFSETFROM:+0100
TZOFFSETTO:+0200
TZNAME:CEST
DTSTART:20260329T010000
END:DAYLIGHT
BEGIN:STANDARD
TZOFFSETFROM:+0200
TZOFFSETTO:+0100
TZNAME:CET
DTSTART:20261025T010000
END:STANDARD
BEGIN:DAYLIGHT
TZOFFSETFROM:+0100
TZOFFSETTO:+0200
TZNAME:CEST
DTSTART:20270328T010000
END:DAYLIGHT
BEGIN:STANDARD
TZOFFSETFROM:+0200
TZOFFSETTO:+0100
TZNAME:CET
DTSTART:20271031T010000
END:STANDARD
END:VTIMEZONE
BEGIN:VEVENT
DTSTART;TZID=Europe/Berlin:20260526T090000
DTEND;TZID=Europe/Berlin:20260526T130000
DTSTAMP:20260421T231016
CREATED:20260407T123453Z
LAST-MODIFIED:20260407T123453Z
UID:2243-1779786000-1779800400@kooperationsverbund-rechtsextremismuspraevention.de
SUMMARY:Umgang mit Angriffen und Bedrohungen (Modulare Fortbildungsreihe KompRex)
DESCRIPTION:Was ist bei Angriffen und Einschüchterungsversuchen von rechts auf die demokratische Zivilgesellschaft zu tun? Und wie finden wir den richtigen Umgang mit Shitstorms? Der Workshop zeigt anhand von Bedarfen der Teilnehmenden verschiedene Strategien der Gegenwehr auf\, informiert über Hilfs- und Unterstützungsstrukturen für Betroffene rechter Anfeindungen\, Bedrohungen und Angriffe und bietet die Möglichkeit für Erfahrungsaustausch. \n(Der Workshop wird von der Amadeu Antonio Stiftung durchgeführt.) \nAnmeldung unter: https://bagkr.de/anmeldung-fobi-2026/ \n 
URL:https://kooperationsverbund-rechtsextremismuspraevention.de/event/umgang-mit-angriffen-und-bedrohungen-modulare-fortbildungsreihe-komprex/
LOCATION:online
END:VEVENT
END:VCALENDAR