BEGIN:VCALENDAR
VERSION:2.0
PRODID:-//Kooperationsverbund Rechtsextremismusprävention - ECPv6.15.20//NONSGML v1.0//EN
CALSCALE:GREGORIAN
METHOD:PUBLISH
X-ORIGINAL-URL:https://kooperationsverbund-rechtsextremismuspraevention.de
X-WR-CALDESC:Veranstaltungen für Kooperationsverbund Rechtsextremismusprävention
REFRESH-INTERVAL;VALUE=DURATION:PT1H
X-Robots-Tag:noindex
X-PUBLISHED-TTL:PT1H
BEGIN:VTIMEZONE
TZID:Europe/Berlin
BEGIN:DAYLIGHT
TZOFFSETFROM:+0100
TZOFFSETTO:+0200
TZNAME:CEST
DTSTART:20250330T010000
END:DAYLIGHT
BEGIN:STANDARD
TZOFFSETFROM:+0200
TZOFFSETTO:+0100
TZNAME:CET
DTSTART:20251026T010000
END:STANDARD
BEGIN:DAYLIGHT
TZOFFSETFROM:+0100
TZOFFSETTO:+0200
TZNAME:CEST
DTSTART:20260329T010000
END:DAYLIGHT
BEGIN:STANDARD
TZOFFSETFROM:+0200
TZOFFSETTO:+0100
TZNAME:CET
DTSTART:20261025T010000
END:STANDARD
BEGIN:DAYLIGHT
TZOFFSETFROM:+0100
TZOFFSETTO:+0200
TZNAME:CEST
DTSTART:20270328T010000
END:DAYLIGHT
BEGIN:STANDARD
TZOFFSETFROM:+0200
TZOFFSETTO:+0100
TZNAME:CET
DTSTART:20271031T010000
END:STANDARD
END:VTIMEZONE
BEGIN:VEVENT
DTSTART;TZID=Europe/Berlin:20260623T090000
DTEND;TZID=Europe/Berlin:20260623T130000
DTSTAMP:20260422T003542
CREATED:20260407T124622Z
LAST-MODIFIED:20260407T124622Z
UID:2259-1782205200-1782219600@kooperationsverbund-rechtsextremismuspraevention.de
SUMMARY:Kenne Deine Rechte(n)! – Rechtsextremismus und Justiz (Modulare Fortbildungsreihe KompRex)
DESCRIPTION:Wann ist rechtsextreme Hetze eigentlich strafbar? Welche rechtsextremen Symbole und Kennzeichen sind verboten? Und was bedeutet es\, wenn die Justiz im Verfahren ein politisches Motiv (nicht) erkennt? Dieser Workshop vermittelt rechtliches Grundlagenwissen zu relevanten Straftatbeständen und zeigt die größten Leerstellen im juristischen Umgang mit Rechtsextremismus auf. Besprochen werden neben dem Umgang der Justiz mit Rechtsextremismus auch die Diskussion um Parteiverbotsverfahren und die Frage nach politischer Neutralität. \n(Der Workshop wird von Gesicht Zeigen durchgeführt.) \nAnmeldung unter: https://bagkr.de/anmeldung-fobi-2026/
URL:https://kooperationsverbund-rechtsextremismuspraevention.de/event/kenne-deine-rechten-rechtsextremismus-und-justiz-modulare-fortbildungsreihe-komprex/
LOCATION:online
END:VEVENT
END:VCALENDAR