BEGIN:VCALENDAR
VERSION:2.0
PRODID:-//Kooperationsverbund Rechtsextremismusprävention - ECPv6.15.20//NONSGML v1.0//EN
CALSCALE:GREGORIAN
METHOD:PUBLISH
X-ORIGINAL-URL:https://kooperationsverbund-rechtsextremismuspraevention.de
X-WR-CALDESC:Veranstaltungen für Kooperationsverbund Rechtsextremismusprävention
REFRESH-INTERVAL;VALUE=DURATION:PT1H
X-Robots-Tag:noindex
X-PUBLISHED-TTL:PT1H
BEGIN:VTIMEZONE
TZID:Europe/Berlin
BEGIN:DAYLIGHT
TZOFFSETFROM:+0100
TZOFFSETTO:+0200
TZNAME:CEST
DTSTART:20250330T010000
END:DAYLIGHT
BEGIN:STANDARD
TZOFFSETFROM:+0200
TZOFFSETTO:+0100
TZNAME:CET
DTSTART:20251026T010000
END:STANDARD
BEGIN:DAYLIGHT
TZOFFSETFROM:+0100
TZOFFSETTO:+0200
TZNAME:CEST
DTSTART:20260329T010000
END:DAYLIGHT
BEGIN:STANDARD
TZOFFSETFROM:+0200
TZOFFSETTO:+0100
TZNAME:CET
DTSTART:20261025T010000
END:STANDARD
BEGIN:DAYLIGHT
TZOFFSETFROM:+0100
TZOFFSETTO:+0200
TZNAME:CEST
DTSTART:20270328T010000
END:DAYLIGHT
BEGIN:STANDARD
TZOFFSETFROM:+0200
TZOFFSETTO:+0100
TZNAME:CET
DTSTART:20271031T010000
END:STANDARD
END:VTIMEZONE
BEGIN:VEVENT
DTSTART;TZID=Europe/Berlin:20261014T160000
DTEND;TZID=Europe/Berlin:20261014T173000
DTSTAMP:20260421T214737
CREATED:20260119T105256Z
LAST-MODIFIED:20260119T110153Z
UID:1941-1791993600-1791999000@kooperationsverbund-rechtsextremismuspraevention.de
SUMMARY:Online-Sicherheitssprechstunde
DESCRIPTION:Das Thema für die Sicherheitssprechstunde steht noch nicht fest\, wird aber hier bekannt gegeben. \nUm auf die akuten Bedrohungen von Akteur*innen der Zivilgesellschaft durch rechtsextreme Kampagnen und Angriffe zu reagieren\, bietet das Kompetenzzentrum für Rechtsextremismus und Demokratieschutz der Amadeu Antonio Stiftung monatlich eine Online-Sicherheitssprechstunde an. \nZiel ist es\, die Öffentlichkeit für die Bedrohung durch rechtsextreme Akteur*innen zu sensibilisieren und den Austausch der Betroffenen zu fördern. In den Sprechstunden werden Themenschwerpunkte gesetzt und Inputs gegeben\, das Wichtigste ist aber der Austausch zwischen den Teilnehmenden. \nDie Anmeldemodalitäten werden hier bekannt gegeben. Bitte sehen Sie bis dahin von Nachfragen ab. Danke!
URL:https://kooperationsverbund-rechtsextremismuspraevention.de/event/online-sicherheitssprechstunde-9/
LOCATION:online
END:VEVENT
BEGIN:VEVENT
DTSTART;TZID=Europe/Berlin:20261111T160000
DTEND;TZID=Europe/Berlin:20261111T173000
DTSTAMP:20260421T214737
CREATED:20260119T105357Z
LAST-MODIFIED:20260119T110217Z
UID:1945-1794412800-1794418200@kooperationsverbund-rechtsextremismuspraevention.de
SUMMARY:Online-Sicherheitssprechstunde
DESCRIPTION:Das Thema für die Sicherheitssprechstunde steht noch nicht fest\, wird aber hier bekannt gegeben. \nUm auf die akuten Bedrohungen von Akteur*innen der Zivilgesellschaft durch rechtsextreme Kampagnen und Angriffe zu reagieren\, bietet das Kompetenzzentrum für Rechtsextremismus und Demokratieschutz der Amadeu Antonio Stiftung monatlich eine Online-Sicherheitssprechstunde an. \nZiel ist es\, die Öffentlichkeit für die Bedrohung durch rechtsextreme Akteur*innen zu sensibilisieren und den Austausch der Betroffenen zu fördern. In den Sprechstunden werden Themenschwerpunkte gesetzt und Inputs gegeben\, das Wichtigste ist aber der Austausch zwischen den Teilnehmenden. \nDie Anmeldemodalitäten werden hier bekannt gegeben. Bitte sehen Sie bis dahin von Nachfragen ab. Danke!
URL:https://kooperationsverbund-rechtsextremismuspraevention.de/event/online-sicherheitssprechstunde-10/
LOCATION:online
END:VEVENT
BEGIN:VEVENT
DTSTART;TZID=Europe/Berlin:20261216T160000
DTEND;TZID=Europe/Berlin:20261216T173000
DTSTAMP:20260421T214737
CREATED:20260119T105559Z
LAST-MODIFIED:20260119T110232Z
UID:1949-1797436800-1797442200@kooperationsverbund-rechtsextremismuspraevention.de
SUMMARY:Online-Sicherheitssprechstunde
DESCRIPTION:Das Thema für die Sicherheitssprechstunde steht noch nicht fest\, wird aber hier bekannt gegeben. \nUm auf die akuten Bedrohungen von Akteur*innen der Zivilgesellschaft durch rechtsextreme Kampagnen und Angriffe zu reagieren\, bietet das Kompetenzzentrum für Rechtsextremismus und Demokratieschutz der Amadeu Antonio Stiftung monatlich eine Online-Sicherheitssprechstunde an. \nZiel ist es\, die Öffentlichkeit für die Bedrohung durch rechtsextreme Akteur*innen zu sensibilisieren und den Austausch der Betroffenen zu fördern. In den Sprechstunden werden Themenschwerpunkte gesetzt und Inputs gegeben\, das Wichtigste ist aber der Austausch zwischen den Teilnehmenden. \nDie Anmeldemodalitäten werden hier bekannt gegeben. Bitte sehen Sie bis dahin von Nachfragen ab. Danke!
URL:https://kooperationsverbund-rechtsextremismuspraevention.de/event/online-sicherheitssprechstunde-11/
LOCATION:online
END:VEVENT
END:VCALENDAR