BEGIN:VCALENDAR
VERSION:2.0
PRODID:-//Kooperationsverbund Rechtsextremismusprävention - ECPv6.15.20//NONSGML v1.0//EN
CALSCALE:GREGORIAN
METHOD:PUBLISH
X-ORIGINAL-URL:https://kooperationsverbund-rechtsextremismuspraevention.de
X-WR-CALDESC:Veranstaltungen für Kooperationsverbund Rechtsextremismusprävention
REFRESH-INTERVAL;VALUE=DURATION:PT1H
X-Robots-Tag:noindex
X-PUBLISHED-TTL:PT1H
BEGIN:VTIMEZONE
TZID:Europe/Berlin
BEGIN:DAYLIGHT
TZOFFSETFROM:+0100
TZOFFSETTO:+0200
TZNAME:CEST
DTSTART:20250330T010000
END:DAYLIGHT
BEGIN:STANDARD
TZOFFSETFROM:+0200
TZOFFSETTO:+0100
TZNAME:CET
DTSTART:20251026T010000
END:STANDARD
BEGIN:DAYLIGHT
TZOFFSETFROM:+0100
TZOFFSETTO:+0200
TZNAME:CEST
DTSTART:20260329T010000
END:DAYLIGHT
BEGIN:STANDARD
TZOFFSETFROM:+0200
TZOFFSETTO:+0100
TZNAME:CET
DTSTART:20261025T010000
END:STANDARD
BEGIN:DAYLIGHT
TZOFFSETFROM:+0100
TZOFFSETTO:+0200
TZNAME:CEST
DTSTART:20270328T010000
END:DAYLIGHT
BEGIN:STANDARD
TZOFFSETFROM:+0200
TZOFFSETTO:+0100
TZNAME:CET
DTSTART:20271031T010000
END:STANDARD
END:VTIMEZONE
BEGIN:VEVENT
DTSTART;TZID=Europe/Berlin:20260708T090000
DTEND;TZID=Europe/Berlin:20260708T130000
DTSTAMP:20260422T003608
CREATED:20260407T124744Z
LAST-MODIFIED:20260407T124744Z
UID:2263-1783501200-1783515600@kooperationsverbund-rechtsextremismuspraevention.de
SUMMARY:Kindheit rechts außen (Modulare Fortbildungsreihe KompRex)
DESCRIPTION:Wie ergeht es Kindern\, die in einer extrem rechten Familie aufwachsen? Im Workshop geben wir einen Einblick in das Thema und beleuchten Familiensysteme sowie Erziehungsmethoden\, auch vor historischem Hintergrund. Mit einer Vielfalt an Methoden eröffnen wir unterschiedliche Perspektiven und werfen zum Abschluss einen Blick auf Herausforderungen und Handlungsoptionen. \n(Der Workshop wird von der Fachstelle Rechtsextremismus und Familie des LidiceHauses Bremen durchgeführt.) \nAnmeldung unter: https://bagkr.de/anmeldung-fobi-2026/
URL:https://kooperationsverbund-rechtsextremismuspraevention.de/event/kindheit-rechts-aussen-modulare-fortbildungsreihe-komprex/
LOCATION:online
END:VEVENT
BEGIN:VEVENT
DTSTART;TZID=Europe/Berlin:20260714T160000
DTEND;TZID=Europe/Berlin:20260714T173000
DTSTAMP:20260422T003608
CREATED:20260119T104935Z
LAST-MODIFIED:20260129T135855Z
UID:1929-1784044800-1784050200@kooperationsverbund-rechtsextremismuspraevention.de
SUMMARY:Online-Sicherheitssprechstunde
DESCRIPTION:Das Thema für die Sicherheitssprechstunde steht noch nicht fest\, wird aber hier bekannt gegeben. \nUm auf die akuten Bedrohungen von Akteur*innen der Zivilgesellschaft durch rechtsextreme Kampagnen und Angriffe zu reagieren\, bietet das Kompetenzzentrum für Rechtsextremismus und Demokratieschutz der Amadeu Antonio Stiftung monatlich eine Online-Sicherheitssprechstunde an. \nZiel ist es\, die Öffentlichkeit für die Bedrohung durch rechtsextreme Akteur*innen zu sensibilisieren und den Austausch der Betroffenen zu fördern. In den Sprechstunden werden Themenschwerpunkte gesetzt und Inputs gegeben\, das Wichtigste ist aber der Austausch zwischen den Teilnehmenden. \nDie Anmeldemodalitäten werden hier bekannt gegeben. Bitte sehen Sie bis dahin von Nachfragen ab. Danke!
URL:https://kooperationsverbund-rechtsextremismuspraevention.de/event/online-sicherheitssprechstunde-6/
LOCATION:online
END:VEVENT
END:VCALENDAR