BEGIN:VCALENDAR
VERSION:2.0
PRODID:-//Kooperationsverbund Rechtsextremismusprävention - ECPv6.15.20//NONSGML v1.0//EN
CALSCALE:GREGORIAN
METHOD:PUBLISH
X-ORIGINAL-URL:https://kooperationsverbund-rechtsextremismuspraevention.de
X-WR-CALDESC:Veranstaltungen für Kooperationsverbund Rechtsextremismusprävention
REFRESH-INTERVAL;VALUE=DURATION:PT1H
X-Robots-Tag:noindex
X-PUBLISHED-TTL:PT1H
BEGIN:VTIMEZONE
TZID:Europe/Berlin
BEGIN:DAYLIGHT
TZOFFSETFROM:+0100
TZOFFSETTO:+0200
TZNAME:CEST
DTSTART:20250330T010000
END:DAYLIGHT
BEGIN:STANDARD
TZOFFSETFROM:+0200
TZOFFSETTO:+0100
TZNAME:CET
DTSTART:20251026T010000
END:STANDARD
BEGIN:DAYLIGHT
TZOFFSETFROM:+0100
TZOFFSETTO:+0200
TZNAME:CEST
DTSTART:20260329T010000
END:DAYLIGHT
BEGIN:STANDARD
TZOFFSETFROM:+0200
TZOFFSETTO:+0100
TZNAME:CET
DTSTART:20261025T010000
END:STANDARD
BEGIN:DAYLIGHT
TZOFFSETFROM:+0100
TZOFFSETTO:+0200
TZNAME:CEST
DTSTART:20270328T010000
END:DAYLIGHT
BEGIN:STANDARD
TZOFFSETFROM:+0200
TZOFFSETTO:+0100
TZNAME:CET
DTSTART:20271031T010000
END:STANDARD
END:VTIMEZONE
BEGIN:VEVENT
DTSTART;TZID=Europe/Berlin:20260408T100000
DTEND;TZID=Europe/Berlin:20260429T130000
DTSTAMP:20260421T201451
CREATED:20260305T131924Z
LAST-MODIFIED:20260309T104934Z
UID:2097-1775642400-1777467600@kooperationsverbund-rechtsextremismuspraevention.de
SUMMARY:Basiskurs Rechtsextremismusprävention
DESCRIPTION:Modulare Online-Fortbildung \n3 Module á 3 Std\, 08./22./29.04.2026\, je 10 – 13 Uhr \nDie Prävention von Rechtsextremismus ist ein komplexes und sich ständig weiterentwickelndes Feld. In dieser modularen Online-Fortbildung werden Grundlagen\, Konzepte und wirksame Ansätze der Rechtsextremismusprävention vorgestellt. \nAnmeldung über die Website: https://www.cultures-interactive.de/de/Basiskurs-rechtsextremismuspraevention.html
URL:https://kooperationsverbund-rechtsextremismuspraevention.de/event/basiskurs-rechtsextremismuspraevention/
LOCATION:online
END:VEVENT
BEGIN:VEVENT
DTSTART;TZID=Europe/Berlin:20260423T090000
DTEND;TZID=Europe/Berlin:20260423T180000
DTSTAMP:20260421T201451
CREATED:20260305T132217Z
LAST-MODIFIED:20260309T105036Z
UID:2101-1776934800-1776967200@kooperationsverbund-rechtsextremismuspraevention.de
SUMMARY:Zwischen Härte\, Vormachtsvorstellungen und sozialen Skills – Zur Rolle von Geschlecht in Rechtsextremismus und Islamismus und Ansätze einer genderreflektierenden Präventionsarbeit
DESCRIPTION:Fortbildung \nIn dieser Fort­bil­dung (in Präsenz) werden die Bedeu­tung von Ge­schlecht und sexuel­ler Orien­tierung\, die Rolle von Frauen und die geschlechts­spezi­fische Aufgaben­­zuweisung in Rechtsextremismus und Is­lamis­mus besprochen. Außer­dem geht es um geschlechts­spezi­fische Rekrutierungsstrategien und es werden persönliche und gesell­schaftliche Hinwendungsmotive dargelegt sowie Bedarfe einer gender­reflek­tieren­den Prä­vention diskutiert. \nAnmeldung über die Website: https://www.cultures-interactive.de/de/genderreflektierende-extremismuspraevention.html
URL:https://kooperationsverbund-rechtsextremismuspraevention.de/event/zwischen-haerte-vormachtsvorstellungen-und-sozialen-skills-zur-rolle-von-geschlecht-in-rechtsextremismus-und-islamismus-und-ansaetze-einer-genderreflektierenden-praeventionsarbeit/
LOCATION:Berlin
END:VEVENT
BEGIN:VEVENT
DTSTART;TZID=Europe/Berlin:20260427T090000
DTEND;TZID=Europe/Berlin:20260427T130000
DTSTAMP:20260421T201451
CREATED:20260407T120929Z
LAST-MODIFIED:20260407T124917Z
UID:2223-1777280400-1777294800@kooperationsverbund-rechtsextremismuspraevention.de
SUMMARY:Einführungsworkshop I: Rechtsextremismus in Deutschland – Grundlagen (Modulare Fortbildungsreihe KompRex)
DESCRIPTION:Hinschauen\, verstehen\, einordnen: Im ersten Workshop schaffen wir eine gemeinsame Grundlage für die Auseinandersetzung mit Rechtsextremismus und seinen Ausprägungen. Wir setzen uns mit zentralen Begrifflichkeiten und wissenschaftlichen Diskursen auseinander\, nehmen die Perspektive von Betroffenen in den Blick und beleuchten Erklärungsansätze zu Radikalisierungsprozessen. \nAnmeldung unter: https://bagkr.de/anmeldung-fobi-2026/
URL:https://kooperationsverbund-rechtsextremismuspraevention.de/event/einfuehrungsworkshop-i-rechtsextremismus-in-deutschland-grundlagen-modulare-fortbildungsreihe-komprex/
LOCATION:online
END:VEVENT
END:VCALENDAR